BEGIN:VCALENDAR
VERSION:2.0
PRODID:-//TCARES - ECPv6.15.20//NONSGML v1.0//EN
CALSCALE:GREGORIAN
METHOD:PUBLISH
X-WR-CALNAME:TCARES
X-ORIGINAL-URL:https://tcares.net
X-WR-CALDESC:Events for TCARES
REFRESH-INTERVAL;VALUE=DURATION:PT1H
X-Robots-Tag:noindex
X-PUBLISHED-TTL:PT1H
BEGIN:VTIMEZONE
TZID:America/Los_Angeles
BEGIN:DAYLIGHT
TZOFFSETFROM:-0800
TZOFFSETTO:-0700
TZNAME:PDT
DTSTART:20230312T100000
END:DAYLIGHT
BEGIN:STANDARD
TZOFFSETFROM:-0700
TZOFFSETTO:-0800
TZNAME:PST
DTSTART:20231105T090000
END:STANDARD
BEGIN:DAYLIGHT
TZOFFSETFROM:-0800
TZOFFSETTO:-0700
TZNAME:PDT
DTSTART:20240310T100000
END:DAYLIGHT
BEGIN:STANDARD
TZOFFSETFROM:-0700
TZOFFSETTO:-0800
TZNAME:PST
DTSTART:20241103T090000
END:STANDARD
BEGIN:DAYLIGHT
TZOFFSETFROM:-0800
TZOFFSETTO:-0700
TZNAME:PDT
DTSTART:20250309T100000
END:DAYLIGHT
BEGIN:STANDARD
TZOFFSETFROM:-0700
TZOFFSETTO:-0800
TZNAME:PST
DTSTART:20251102T090000
END:STANDARD
END:VTIMEZONE
BEGIN:VEVENT
DTSTART;TZID=America/Los_Angeles:20240406T090000
DTEND;TZID=America/Los_Angeles:20240406T140000
DTSTAMP:20260423T081856
CREATED:20230321T170544Z
LAST-MODIFIED:20240329T233032Z
UID:5535-1712394000-1712412000@tcares.net
SUMMARY:Tuolumne County OES Wildfire Awareness Town Hall
DESCRIPTION:Can you HELP for an hour or two?  email info@tcares.net to sign up.\n\n\n\nTCARES has been invited to have a public information table at the event. We will help the public understand more about Ham Radio and GMRS as well. \n\n\n\n\nDefensible Space\n\n\n\nHome Hardening\n\n\n\nReady Set Go\n\n\n\nEvacuations\n\n\n\nGo Bags\n\n\n\nTeam Elite\n\n\n\nCERT\n\n\n\nNWR\n\n\n\nFirewise Community
URL:https://tcares.net/event/tc-oes-wildfire-awareness-eventtuolumne-county-oes-wildfire-awareness-town-hall/
LOCATION:Motherlode Fairgrounds\, 220 Southgate Drive\, Sonora\, CA\, 95370\, United States
CATEGORIES:ARES,Public Demonstration,Public Service,TCARES
ATTACH;FMTTYPE=image/jpeg:https://tcares.net/wp-content/uploads/2023/03/200825-california-lnu-fire-jm-0957.jpg
END:VEVENT
END:VCALENDAR