BEGIN:VCALENDAR
VERSION:2.0
PRODID:-//TCARES - ECPv6.15.20//NONSGML v1.0//EN
CALSCALE:GREGORIAN
METHOD:PUBLISH
X-ORIGINAL-URL:https://tcares.net
X-WR-CALDESC:Events for TCARES
REFRESH-INTERVAL;VALUE=DURATION:PT1H
X-Robots-Tag:noindex
X-PUBLISHED-TTL:PT1H
BEGIN:VTIMEZONE
TZID:America/Los_Angeles
BEGIN:DAYLIGHT
TZOFFSETFROM:-0800
TZOFFSETTO:-0700
TZNAME:PDT
DTSTART:20230312T100000
END:DAYLIGHT
BEGIN:STANDARD
TZOFFSETFROM:-0700
TZOFFSETTO:-0800
TZNAME:PST
DTSTART:20231105T090000
END:STANDARD
BEGIN:DAYLIGHT
TZOFFSETFROM:-0800
TZOFFSETTO:-0700
TZNAME:PDT
DTSTART:20240310T100000
END:DAYLIGHT
BEGIN:STANDARD
TZOFFSETFROM:-0700
TZOFFSETTO:-0800
TZNAME:PST
DTSTART:20241103T090000
END:STANDARD
BEGIN:DAYLIGHT
TZOFFSETFROM:-0800
TZOFFSETTO:-0700
TZNAME:PDT
DTSTART:20250309T100000
END:DAYLIGHT
BEGIN:STANDARD
TZOFFSETFROM:-0700
TZOFFSETTO:-0800
TZNAME:PST
DTSTART:20251102T090000
END:STANDARD
END:VTIMEZONE
BEGIN:VEVENT
DTSTART;TZID=America/Los_Angeles:20241017T100000
DTEND;TZID=America/Los_Angeles:20241017T110000
DTSTAMP:20260422T190732
CREATED:20240928T201511Z
LAST-MODIFIED:20241017T033634Z
UID:6420-1729159200-1729162800@tcares.net
SUMMARY:OES Emergency Drill
DESCRIPTION:Ham Radio Operators will be assigned to key County locations like Resiliency Centers\, Airports\, Fairgrounds\, Hospitals\, etc to check in to prove county wide VHF communications between key operational buildings. \n\n\n\nThe Earthquake will be at 10:17 am tomorrow (OCT 17\, 10:17) \n\n\n\nNEW – The NET sequence will be…. (STARTING ABOUT 10:30 am) \n\n\n\n1. ASSIGNED LOCATION NET (the below 15 locations) \n\n\n\n2. GENERAL ANY HAM ANYWHERE NET (mobile or at home\, out of county\, etc) \n\n\n\n3. NRW GMRS NET CONTROL reports from Hams. \n\n\n\nCAN YOU HELP?\n\n\n\nWe will need 10 to 14 (possibly more) hams to take assignments to drive to a specific building parking lot and check in to a special NET Thursday morning. \n\n\n\nWhat will you do? \n\n\n\n\nDrive a few miles to assigned location.\n\n\n\nUse hand held or mobile radio\n\n\n\nListen to NET and wait for your turn.\n\n\n\nCheck in when called and ready from provided script.\n\n\n\nFinish listening to the Net and wait to be dismissed.\n\n\n\nGo Home\, the whole thing might last 60 minutes or so.
URL:https://tcares.net/event/oes-emergency-drill/
CATEGORIES:ARES,Public Demonstration,Public Service,TCARES,Training
ATTACH;FMTTYPE=image/jpeg:https://tcares.net/wp-content/uploads/2022/10/IMG_7676D-scaled.jpeg
END:VEVENT
END:VCALENDAR