BEGIN:VCALENDAR
VERSION:2.0
PRODID:-//TCARES - ECPv6.15.20//NONSGML v1.0//EN
CALSCALE:GREGORIAN
METHOD:PUBLISH
X-ORIGINAL-URL:https://tcares.net
X-WR-CALDESC:Events for TCARES
REFRESH-INTERVAL;VALUE=DURATION:PT1H
X-Robots-Tag:noindex
X-PUBLISHED-TTL:PT1H
BEGIN:VTIMEZONE
TZID:America/Los_Angeles
BEGIN:DAYLIGHT
TZOFFSETFROM:-0800
TZOFFSETTO:-0700
TZNAME:PDT
DTSTART:20250309T100000
END:DAYLIGHT
BEGIN:STANDARD
TZOFFSETFROM:-0700
TZOFFSETTO:-0800
TZNAME:PST
DTSTART:20251102T090000
END:STANDARD
BEGIN:DAYLIGHT
TZOFFSETFROM:-0800
TZOFFSETTO:-0700
TZNAME:PDT
DTSTART:20260308T100000
END:DAYLIGHT
BEGIN:STANDARD
TZOFFSETFROM:-0700
TZOFFSETTO:-0800
TZNAME:PST
DTSTART:20261101T090000
END:STANDARD
BEGIN:DAYLIGHT
TZOFFSETFROM:-0800
TZOFFSETTO:-0700
TZNAME:PDT
DTSTART:20270314T100000
END:DAYLIGHT
BEGIN:STANDARD
TZOFFSETFROM:-0700
TZOFFSETTO:-0800
TZNAME:PST
DTSTART:20271107T090000
END:STANDARD
END:VTIMEZONE
BEGIN:VEVENT
DTSTART;TZID=America/Los_Angeles:20260321T093000
DTEND;TZID=America/Los_Angeles:20260321T103000
DTSTAMP:20260420T045638
CREATED:20251221T193738Z
LAST-MODIFIED:20260305T041502Z
UID:7262-1774085400-1774089000@tcares.net
SUMMARY:TCARES Monthly Breakfast & Club Meeting + RAFFLE!!
DESCRIPTION:All are welcome\, JOIN US! This month we will be raffling a NanoVNA (worth ~$50; $5 minimum bids)! Come to the back room around or just before 9 AM to order your breakfast…or just a cup of coffee. At 9:30 we will begin our formal agenda. \n\n\n\nNote: There will be a TCARES Board meeting following the club’s breakfast meeting.
URL:https://tcares.net/event/tcares-general-membership-monthly-breakfast-and-club-meeting-3/
CATEGORIES:Social,TCARES
END:VEVENT
END:VCALENDAR