BEGIN:VCALENDAR
VERSION:2.0
PRODID:-//TCARES - ECPv6.15.20//NONSGML v1.0//EN
CALSCALE:GREGORIAN
METHOD:PUBLISH
X-ORIGINAL-URL:https://tcares.net
X-WR-CALDESC:Events for TCARES
REFRESH-INTERVAL;VALUE=DURATION:PT1H
X-Robots-Tag:noindex
X-PUBLISHED-TTL:PT1H
BEGIN:VTIMEZONE
TZID:America/Los_Angeles
BEGIN:DAYLIGHT
TZOFFSETFROM:-0800
TZOFFSETTO:-0700
TZNAME:PDT
DTSTART:20240310T100000
END:DAYLIGHT
BEGIN:STANDARD
TZOFFSETFROM:-0700
TZOFFSETTO:-0800
TZNAME:PST
DTSTART:20241103T090000
END:STANDARD
BEGIN:DAYLIGHT
TZOFFSETFROM:-0800
TZOFFSETTO:-0700
TZNAME:PDT
DTSTART:20250309T100000
END:DAYLIGHT
BEGIN:STANDARD
TZOFFSETFROM:-0700
TZOFFSETTO:-0800
TZNAME:PST
DTSTART:20251102T090000
END:STANDARD
BEGIN:DAYLIGHT
TZOFFSETFROM:-0800
TZOFFSETTO:-0700
TZNAME:PDT
DTSTART:20260308T100000
END:DAYLIGHT
BEGIN:STANDARD
TZOFFSETFROM:-0700
TZOFFSETTO:-0800
TZNAME:PST
DTSTART:20261101T090000
END:STANDARD
END:VTIMEZONE
BEGIN:VEVENT
DTSTART;TZID=America/Los_Angeles:20250816T090000
DTEND;TZID=America/Los_Angeles:20250816T103000
DTSTAMP:20260420T201211
CREATED:20250619T035851Z
LAST-MODIFIED:20250814T031049Z
UID:6821-1755334800-1755340200@tcares.net
SUMMARY:TCARES General Membership Monthly Breakfast and Meeting
DESCRIPTION:All are welcome\, JOIN US! Come to the back room around or just before 9 AM to order your breakfast… or just a cup of coffee.  At 9:30 we will begin our formal agenda. \n\n\n\nTypical Agenda: 9:30 \n\n\n\n\nPledge of Allegience\n\n\n\nIntroductions\n\n\n\nOfficer Reports\n\n\n\nAnnouncements\n\n\n\nOld Business\n\n\n\nNew Business\n\n\n\n2025 Calendar Review\n\n\n\nEvent Planning\n\n\n\nConclusion\n\n\n\n\nLOCATION BELOW:
URL:https://tcares.net/event/tcares-general-membership-monthly-breakfast-and-meeting-7/
LOCATION:My Garden Cafe\, 14270 Mono Way\, Sonora\, CA\, 95370-2801\, United States
CATEGORIES:Social,TCARES
ATTACH;FMTTYPE=image/jpeg:https://tcares.net/wp-content/uploads/2019/07/Pancakes-14.jpg
END:VEVENT
END:VCALENDAR