BEGIN:VCALENDAR
VERSION:2.0
PRODID:-//TCARES - ECPv6.15.20//NONSGML v1.0//EN
CALSCALE:GREGORIAN
METHOD:PUBLISH
X-WR-CALNAME:TCARES
X-ORIGINAL-URL:https://tcares.net
X-WR-CALDESC:Events for TCARES
REFRESH-INTERVAL;VALUE=DURATION:PT1H
X-Robots-Tag:noindex
X-PUBLISHED-TTL:PT1H
BEGIN:VTIMEZONE
TZID:America/Los_Angeles
BEGIN:DAYLIGHT
TZOFFSETFROM:-0800
TZOFFSETTO:-0700
TZNAME:PDT
DTSTART:20240310T100000
END:DAYLIGHT
BEGIN:STANDARD
TZOFFSETFROM:-0700
TZOFFSETTO:-0800
TZNAME:PST
DTSTART:20241103T090000
END:STANDARD
BEGIN:DAYLIGHT
TZOFFSETFROM:-0800
TZOFFSETTO:-0700
TZNAME:PDT
DTSTART:20250309T100000
END:DAYLIGHT
BEGIN:STANDARD
TZOFFSETFROM:-0700
TZOFFSETTO:-0800
TZNAME:PST
DTSTART:20251102T090000
END:STANDARD
BEGIN:DAYLIGHT
TZOFFSETFROM:-0800
TZOFFSETTO:-0700
TZNAME:PDT
DTSTART:20260308T100000
END:DAYLIGHT
BEGIN:STANDARD
TZOFFSETFROM:-0700
TZOFFSETTO:-0800
TZNAME:PST
DTSTART:20261101T090000
END:STANDARD
END:VTIMEZONE
BEGIN:VEVENT
DTSTART;TZID=America/Los_Angeles:20250920T110000
DTEND;TZID=America/Los_Angeles:20250920T150000
DTSTAMP:20260420T180924
CREATED:20240217T043245Z
LAST-MODIFIED:20250612T033519Z
UID:6120-1758366000-1758380400@tcares.net
SUMMARY:TCARES Multi County/Club Picnic BBQ
DESCRIPTION:C.A.R.S to provide Hot Dogs\, Hamburgers\, Condiments\, plastic ware and the BBQs. \n\n\n\nTCARES to provide water\, soda\, ice\, sliced tomatoes and Onions. \n\n\n\nAll attending\, please bring a side dish or desert. \n\n\n\nThe location has a covered seating area perfect for rain or shine. \n\n\n\nA table will be provided for a swap meet. \n\n\n\nQuestions?  Call Steven Airola\, CARS President\, W6RXK\, 209 770 3263. \n\n\n\nLOCATION UTICA PARK https://maps.app.goo.gl/npCTPFTYU4nvgfvD9
URL:https://tcares.net/event/tcares-multi-county-club-picnic/
CATEGORIES:Social,TCARES
ATTACH;FMTTYPE=image/webp:https://tcares.net/wp-content/uploads/2024/02/hot-dogs-burgers-on-grill-flames.webp
END:VEVENT
END:VCALENDAR