BEGIN:VCALENDAR
VERSION:2.0
PRODID:-//TCARES - ECPv6.15.20//NONSGML v1.0//EN
CALSCALE:GREGORIAN
METHOD:PUBLISH
X-WR-CALNAME:TCARES
X-ORIGINAL-URL:https://tcares.net
X-WR-CALDESC:Events for TCARES
REFRESH-INTERVAL;VALUE=DURATION:PT1H
X-Robots-Tag:noindex
X-PUBLISHED-TTL:PT1H
BEGIN:VTIMEZONE
TZID:America/Los_Angeles
BEGIN:DAYLIGHT
TZOFFSETFROM:-0800
TZOFFSETTO:-0700
TZNAME:PDT
DTSTART:20250309T100000
END:DAYLIGHT
BEGIN:STANDARD
TZOFFSETFROM:-0700
TZOFFSETTO:-0800
TZNAME:PST
DTSTART:20251102T090000
END:STANDARD
BEGIN:DAYLIGHT
TZOFFSETFROM:-0800
TZOFFSETTO:-0700
TZNAME:PDT
DTSTART:20260308T100000
END:DAYLIGHT
BEGIN:STANDARD
TZOFFSETFROM:-0700
TZOFFSETTO:-0800
TZNAME:PST
DTSTART:20261101T090000
END:STANDARD
BEGIN:DAYLIGHT
TZOFFSETFROM:-0800
TZOFFSETTO:-0700
TZNAME:PDT
DTSTART:20270314T100000
END:DAYLIGHT
BEGIN:STANDARD
TZOFFSETFROM:-0700
TZOFFSETTO:-0800
TZNAME:PST
DTSTART:20271107T090000
END:STANDARD
END:VTIMEZONE
BEGIN:VEVENT
DTSTART;TZID=America/Los_Angeles:20260307T090000
DTEND;TZID=America/Los_Angeles:20260307T110000
DTSTAMP:20260420T073652
CREATED:20250422T031919Z
LAST-MODIFIED:20260210T035853Z
UID:6752-1772874000-1772881200@tcares.net
SUMMARY:Introduction to Radio Class: Pine Mountain Lake
DESCRIPTION:THIS IS A FREE CLASS\, Limited to the first 25 people. REGISTER BELOW. \n\n\n\nLearn basic radio communications skills with a focus on the General Mobile Radio Service (GMRS)\, Family Radio Service and Ham Radio (GMRS/FRS/HAM). A NO TEST LICENSE is required to transmit on the GMRS frequencies. However\, you can transmit without a license on the FRS frequencies that are used by some of our GMRS groups within Tuolumne County. Explore and learn all the details at this class. \n\n\n\nHands on skills training will get you up and transmitting right away\, with instructions on emergency communication. \n\n\n\nSTAY INFORMED when cellphones are down and power outages occur. \n\n\n\nRADIO CLASS AGENDA\n\n\n\n\nTypes of Radio Services\n\n\n\nPro and Cons of FRS/GMRS/HAM\n\n\n\nRadio Etiquette \n\n\n\nHow to talk on the Radio\n\n\n\nHow to listen to public safety channels (Fire/Sheriff/AirTankers\, etc)\n\n\n\nWhat is a Repeater?\n\n\n\nHow to join a Network\n\n\n\nCommon Radio Features\n\n\n\nUse Radio as a Scanner\n\n\n\nPractice Net Roster with Radio\n\n\n\n\nOPTIONAL: Tuolumne County has five GMRS repeaters on hill tops that allow wide communications across the county and the valley. A GMRS license is required for repeater usage. Apply for your GMRS license today. One GMRS license will cover your entire extended family\, even if they don’t live in the same home. There is NO TEST\, only a FCC $35. application fee. Follow these step by step instructions to get your NO TEST GMRS License. FCC processing time usually takes one to three days and has a $35.00 fee. START NOW. \n\n\n\nYou do not need to own a radio to attend this class\, reserve a seat with a free ticket and learn the basic skills of radio communication. There is no fee for the skills training. \n\n\n\n\nMARCH 7th – 9:00 AM (about 2 hours) Please check in by 8:45\, thanks!\n\n\n\nLimited to the first 25 people\n\n\n\nLake Lodge: 20270 Pine Mountain Drive\, Groveland\, CA 95321\n\n\n\n\nREGISTER NOW AND SAVE YOUR SEAT!\n\n\n\n	Notice: JavaScript is required for this content.\n\n\n    \n\n\n        \n        \n        \n\n\n\nThis is the meeting location: \n\n\n\nPML Lake Lodge is at 20270 Pine Mountain Drive\, Groveland\, CA 95321
URL:https://tcares.net/event/beginner-radio-class/
LOCATION:Pine Mountain Lake Lodge\, 20270 Pine Mountain Drive\, Groveland\, California\, 95321\, United States
CATEGORIES:Public Demonstration,TCARES,Training
ATTACH;FMTTYPE=image/webp:https://tcares.net/wp-content/uploads/2025/04/df5bc7dba46adb6fa015790dae93aefa-300x300-1.webp
END:VEVENT
BEGIN:VEVENT
DTSTART;TZID=America/Los_Angeles:20260315T070000
DTEND;TZID=America/Los_Angeles:20260315T110000
DTSTAMP:20260420T073652
CREATED:20240215T031414Z
LAST-MODIFIED:20260312T031251Z
UID:6074-1773558000-1773572400@tcares.net
SUMMARY:JAMESTOWN RUN Radio Support - March 15th
DESCRIPTION:This year’s Jamestown run is on a SUNDAY morning. All radio volunteers will meet at the Jamestown CHP Office at 7:00 am for briefing. The address is given below\, with a map. \n\n\n\nGrayson Rehn will be the net control operator for race communications (he’s done this multiple times and is a great asset to our club!). Grayson will run the briefing meeting\, and anwer any questions volunteers may have. Ham and GMRS radio operators will be assigned to stations along the run route and be given instructions on protocols & procedures. If you haven’t done this before\, it’s pretty straightforward. \n\n\n\nAlso\, you can check into one\, or more\, of our weekly nets to let us know if you can help provide radio support\, or contact Grayson\, KE6KYI\, at: \n\n\n\npapabird.KE6KYI@gmail.com \n\n\n\nand he will give you details and sign you up for a spot on the roster. \n\n\n\nThanks\, so much\, to all volunteers for this event! The race coordinators REALLY appreciate our help and support for our community events like this one.
URL:https://tcares.net/event/jamestown-run-radio-support-2025/
LOCATION:Jamestown CHP\, 18437 5th Ave\, Jamestown\, CA\, 95327\, United States
CATEGORIES:Public Service,TCARES
ATTACH;FMTTYPE=image/jpeg:https://tcares.net/wp-content/uploads/2024/02/IMG_8538D-scaled.jpg
END:VEVENT
BEGIN:VEVENT
DTSTART;TZID=America/Los_Angeles:20260321T093000
DTEND;TZID=America/Los_Angeles:20260321T103000
DTSTAMP:20260420T073652
CREATED:20251221T193738Z
LAST-MODIFIED:20260305T041502Z
UID:7262-1774085400-1774089000@tcares.net
SUMMARY:TCARES Monthly Breakfast & Club Meeting + RAFFLE!!
DESCRIPTION:All are welcome\, JOIN US! This month we will be raffling a NanoVNA (worth ~$50; $5 minimum bids)! Come to the back room around or just before 9 AM to order your breakfast…or just a cup of coffee. At 9:30 we will begin our formal agenda. \n\n\n\nNote: There will be a TCARES Board meeting following the club’s breakfast meeting.
URL:https://tcares.net/event/tcares-general-membership-monthly-breakfast-and-club-meeting-3/
CATEGORIES:Social,TCARES
END:VEVENT
END:VCALENDAR