BEGIN:VCALENDAR
VERSION:2.0
PRODID:-//TCARES - ECPv6.15.20//NONSGML v1.0//EN
CALSCALE:GREGORIAN
METHOD:PUBLISH
X-ORIGINAL-URL:https://tcares.net
X-WR-CALDESC:Events for TCARES
REFRESH-INTERVAL;VALUE=DURATION:PT1H
X-Robots-Tag:noindex
X-PUBLISHED-TTL:PT1H
BEGIN:VTIMEZONE
TZID:America/Los_Angeles
BEGIN:DAYLIGHT
TZOFFSETFROM:-0800
TZOFFSETTO:-0700
TZNAME:PDT
DTSTART:20250309T100000
END:DAYLIGHT
BEGIN:STANDARD
TZOFFSETFROM:-0700
TZOFFSETTO:-0800
TZNAME:PST
DTSTART:20251102T090000
END:STANDARD
BEGIN:DAYLIGHT
TZOFFSETFROM:-0800
TZOFFSETTO:-0700
TZNAME:PDT
DTSTART:20260308T100000
END:DAYLIGHT
BEGIN:STANDARD
TZOFFSETFROM:-0700
TZOFFSETTO:-0800
TZNAME:PST
DTSTART:20261101T090000
END:STANDARD
BEGIN:DAYLIGHT
TZOFFSETFROM:-0800
TZOFFSETTO:-0700
TZNAME:PDT
DTSTART:20270314T100000
END:DAYLIGHT
BEGIN:STANDARD
TZOFFSETFROM:-0700
TZOFFSETTO:-0800
TZNAME:PST
DTSTART:20271107T090000
END:STANDARD
END:VTIMEZONE
BEGIN:VEVENT
DTSTART;TZID=America/Los_Angeles:20260426T090000
DTEND;TZID=America/Los_Angeles:20260426T110000
DTSTAMP:20260420T001836
CREATED:20260407T015121Z
LAST-MODIFIED:20260407T024752Z
UID:7638-1777194000-1777201200@tcares.net
SUMMARY:TCARES POTA Meetup!
DESCRIPTION:POTA Meetup at Elizabeth Peak\, Cedar Ridge \n\n\n\nJoin us for a casual Parks On The Air (POTA) meetup at Elizabeth Peak in Cedar Ridge\, Tuolumne County. \n\n\n\nDate: Sunday April 26 \n\n\n\nTime: 9:00 am – 12:00 pm \n\n\n\nPOTA is an international radio program where amateur radio operators set up in parks and make contacts from designated public lands. \n\n\n\nThis is an informal\, hands-on event open to all experience levels. Bring whatever radio gear you want to run (HT\, Mobile\, HF\, etc.)\, or just show up and check out how portable stations are set up. \n\n\n\nA shared club station will be available if you want to get on the air but don’t have your own equipment. \n\n\n\nOptional Goals (just for fun): \n\n\n\n1) Get on the air in 30 minutes;2) Log 10 contacts (POTA activation);3) Operate on multiple bands or antennas; and/or4) First POTA activation. \n\n\n\nDirections: \n\n\n\n– Location: Mount Elizabeth Lookout (Elizabeth Peak\, Cedar Ridge)– Coordinates: N 38° 03.782′ W 120° 14.848′ LINK \n\n\n\nGetting There: \n\n\n\n– Head toward Cedar Ridge and follow your GPS to the coordinates above.– The final stretch is a dirt fire road leading up to the summit.– The road ends at the top near the historic fire lookout tower. \n\n\n\nYou can also view the location here: \n\n\n\nhttp://nhlr.org/lookouts/us/ca/mount-elizabeth-lookout/ \n\n\n\nContact Andrew\, K6AEF\, for more info\, or questions at k6aef@outlook.com.
URL:https://tcares.net/event/tcares-pota-meetup/
CATEGORIES:Public Demonstration,TCARES,Training
ATTACH;FMTTYPE=image/png:https://tcares.net/wp-content/uploads/2026/04/image-scaled.png
END:VEVENT
END:VCALENDAR