BEGIN:VCALENDAR
VERSION:2.0
PRODID:-//TCARES - ECPv6.15.20//NONSGML v1.0//EN
CALSCALE:GREGORIAN
METHOD:PUBLISH
X-ORIGINAL-URL:https://tcares.net
X-WR-CALDESC:Events for TCARES
REFRESH-INTERVAL;VALUE=DURATION:PT1H
X-Robots-Tag:noindex
X-PUBLISHED-TTL:PT1H
BEGIN:VTIMEZONE
TZID:America/Los_Angeles
BEGIN:DAYLIGHT
TZOFFSETFROM:-0800
TZOFFSETTO:-0700
TZNAME:PDT
DTSTART:20180311T100000
END:DAYLIGHT
BEGIN:STANDARD
TZOFFSETFROM:-0700
TZOFFSETTO:-0800
TZNAME:PST
DTSTART:20181104T090000
END:STANDARD
BEGIN:DAYLIGHT
TZOFFSETFROM:-0800
TZOFFSETTO:-0700
TZNAME:PDT
DTSTART:20190310T100000
END:DAYLIGHT
BEGIN:STANDARD
TZOFFSETFROM:-0700
TZOFFSETTO:-0800
TZNAME:PST
DTSTART:20191103T090000
END:STANDARD
BEGIN:DAYLIGHT
TZOFFSETFROM:-0800
TZOFFSETTO:-0700
TZNAME:PDT
DTSTART:20200308T100000
END:DAYLIGHT
BEGIN:STANDARD
TZOFFSETFROM:-0700
TZOFFSETTO:-0800
TZNAME:PST
DTSTART:20201101T090000
END:STANDARD
END:VTIMEZONE
BEGIN:VEVENT
DTSTART;TZID=America/Los_Angeles:20190427T030000
DTEND;TZID=America/Los_Angeles:20190427T043000
DTSTAMP:20260421T020123
CREATED:20190120T060614Z
LAST-MODIFIED:20190323T000019Z
UID:1319-1556334000-1556339400@tcares.net
SUMMARY:HAM EXAM SESSION
DESCRIPTION:04/27/2019 \nSponsor: TCARES\nDate: Apr 27 2019\nTime: 10:00 AM (Walk-ins allowed)\nContact: Grayson L. Rehn\n(209) 962-4661\nEmail: papa-bird@sbcglobal.net\nVEC: ARRL/VEC\nLocation: Sheriff CSU office at the Junction
URL:https://tcares.net/event/ham-exam-session-april/
LOCATION:SHERIFF CSU OFFICE\, 13775 Mono Way\, Sonora\, CA\, 95370\, United States
CATEGORIES:Test
END:VEVENT
END:VCALENDAR