BEGIN:VCALENDAR
VERSION:2.0
PRODID:-//TCARES - ECPv6.15.20//NONSGML v1.0//EN
CALSCALE:GREGORIAN
METHOD:PUBLISH
X-WR-CALNAME:TCARES
X-ORIGINAL-URL:https://tcares.net
X-WR-CALDESC:Events for TCARES
REFRESH-INTERVAL;VALUE=DURATION:PT1H
X-Robots-Tag:noindex
X-PUBLISHED-TTL:PT1H
BEGIN:VTIMEZONE
TZID:America/Los_Angeles
BEGIN:DAYLIGHT
TZOFFSETFROM:-0800
TZOFFSETTO:-0700
TZNAME:PDT
DTSTART:20250309T100000
END:DAYLIGHT
BEGIN:STANDARD
TZOFFSETFROM:-0700
TZOFFSETTO:-0800
TZNAME:PST
DTSTART:20251102T090000
END:STANDARD
BEGIN:DAYLIGHT
TZOFFSETFROM:-0800
TZOFFSETTO:-0700
TZNAME:PDT
DTSTART:20260308T100000
END:DAYLIGHT
BEGIN:STANDARD
TZOFFSETFROM:-0700
TZOFFSETTO:-0800
TZNAME:PST
DTSTART:20261101T090000
END:STANDARD
BEGIN:DAYLIGHT
TZOFFSETFROM:-0800
TZOFFSETTO:-0700
TZNAME:PDT
DTSTART:20270314T100000
END:DAYLIGHT
BEGIN:STANDARD
TZOFFSETFROM:-0700
TZOFFSETTO:-0800
TZNAME:PST
DTSTART:20271107T090000
END:STANDARD
END:VTIMEZONE
BEGIN:VEVENT
DTSTART;TZID=America/Los_Angeles:20260514T103000
DTEND;TZID=America/Los_Angeles:20260514T113000
DTSTAMP:20260421T080317
CREATED:20240329T200803Z
LAST-MODIFIED:20260402T030207Z
UID:6166-1778754600-1778758200@tcares.net
SUMMARY:2026 County OES Emergency Siren Test MAY 14 11:00 AM
DESCRIPTION:Tuolumne County OES and Sheriff will be testing 5 Sirens in the following locations: Groveland\, Tuolumne City\, Twain Harte\, Cold Springs and Strawberry.  The County has asked TCARES if we can monitor the locations and report what was heard in a live Net that day. \n\n\n\nWHEN: Thursday MAY 14 11:00 AM \n\n\n\nSchedule: \n\n\n\n\n10:30 Net Opens (All Repeaters)\n\n\n\n10:45 Checkin from your assigned location\n\n\n\n11:00 Siren alarms\n\n\n\n11:05 Checkin and report what you heard\n\n\n\n11:30 Net closes.\n\n\n\n\nWHERE: Groveland\, Tuolumne City\, Twain Harte\, Cold Springs and Strawberry (We need some Hams to drive up to Cold Springs and Strawberry and listen and call into the repeaters.) \n\n\n\nIf you are a licensed Ham or GMRS user\, please email info@tcares.net to indicate your interest and if you will stay at home or can be mobile to drive to Cold Springs or Strawberry or Tuolumne City. \n\n\n\nMOBILE ASSIGNMENTS\n\n\n\n\nTUOLUMNE 1: Elementary School\n\n\n\nTUOLUMNE 2: Casino\n\n\n\nCOLD SPRINGS 1: End of Shasta Dr.\n\n\n\nCOLD SPRINGS 2: Mia’s Restaurant\n\n\n\nSTRAWBERRY 1: Ranger Station\n\n\n\nSTRAWBERRY 2: Near or past Lakeshore dr roundabout (Pinecrest Lake)\n\n\n\n\nhttps://arcg.is/1HfKCi1
URL:https://tcares.net/event/county-oes-emergency-siren-test/
CATEGORIES:ARES,Public Service,TCARES,Training
ATTACH;FMTTYPE=image/jpeg:https://tcares.net/wp-content/uploads/2024/03/Disaster-Siren.jpg
END:VEVENT
END:VCALENDAR