BEGIN:VCALENDAR
VERSION:2.0
PRODID:-//TCARES - ECPv6.15.20//NONSGML v1.0//EN
CALSCALE:GREGORIAN
METHOD:PUBLISH
X-WR-CALNAME:TCARES
X-ORIGINAL-URL:https://tcares.net
X-WR-CALDESC:Events for TCARES
REFRESH-INTERVAL;VALUE=DURATION:PT1H
X-Robots-Tag:noindex
X-PUBLISHED-TTL:PT1H
BEGIN:VTIMEZONE
TZID:America/Los_Angeles
BEGIN:DAYLIGHT
TZOFFSETFROM:-0800
TZOFFSETTO:-0700
TZNAME:PDT
DTSTART:20170312T100000
END:DAYLIGHT
BEGIN:STANDARD
TZOFFSETFROM:-0700
TZOFFSETTO:-0800
TZNAME:PST
DTSTART:20171105T090000
END:STANDARD
BEGIN:DAYLIGHT
TZOFFSETFROM:-0800
TZOFFSETTO:-0700
TZNAME:PDT
DTSTART:20180311T100000
END:DAYLIGHT
BEGIN:STANDARD
TZOFFSETFROM:-0700
TZOFFSETTO:-0800
TZNAME:PST
DTSTART:20181104T090000
END:STANDARD
BEGIN:DAYLIGHT
TZOFFSETFROM:-0800
TZOFFSETTO:-0700
TZNAME:PDT
DTSTART:20190310T100000
END:DAYLIGHT
BEGIN:STANDARD
TZOFFSETFROM:-0700
TZOFFSETTO:-0800
TZNAME:PST
DTSTART:20191103T090000
END:STANDARD
END:VTIMEZONE
BEGIN:VEVENT
DTSTART;TZID=America/Los_Angeles:20180922T020000
DTEND;TZID=America/Los_Angeles:20180922T033000
DTSTAMP:20260423T035527
CREATED:20180202T094004Z
LAST-MODIFIED:20180805T005832Z
UID:277-1537581600-1537587000@tcares.net
SUMMARY:TCARES Ham Radio Exam Session Sept 2018
DESCRIPTION:Click here to learn how to study for your Exam. \nWhat to Bring to an Exam Session:\nMAP OF TEST LOCATION \n1.  A legal photo ID (driver’s license\, passport) \n2.  If no photo ID is available\, two forms of identification:\na. non-photo ID/driver’s license (some states still have them)\nb. birth certificate (must have the appropriate seal)\nc. social security card\nd. library card\ne. utility bill\, bank statement or other business correspondence that\nspecifically names the person; or a postmarked envelope addressed\nto the person at his or her current mailing address as it appears on\nthe Form 605. \n3.  Students/minors may bring any of the above items and/or a school ID\,\nminor’s work permit\, report card\, or a legal guardian may present a\nphoto ID. \n4.  Social Security Number (SSN) or your FCC issued Federal\nRegistration Number (FRN); VEC’s are required by the FCC to submit\neither your SSN or your FRN number with your license application\nform. If you prefer not to give your SSN at the exam session\, then\nyou may register your SSN with the FCC before exam day. Once you\nhave a FCC issued FRN\, you may no longer use your SSN on the\napplication. For instructions on how to register your SSN with the\nFCC and receive a FRN\, visit the FCC’s FAQ page and the\nFCC’s registration instructions page.  Please note that some\nexam teams will only accept a valid FRN on your application.\nCheck with your local exam team before exam day. \n5.  If applicable\, bring either a photocopy of your current Amateur Radio\nlicense or a reference copy printed out from the FCC website\, the\nlicense information printed from ARRL website or QRZ website\,\nor the original(s) and photocopy(s) of any Certificates of Successful\nCompletion of Examination (CSCE) you may hold from previous\nexam sessions. If your license has already been issued by FCC\,\nthe CSCE showing license credit is not needed. The photocopy(s)\nwill not be returned.\n           Instructions on how to obtain an official FCC license copy are on\nour Obtain License Copy  web page.  \n6.  Two number two pencils with erasers and a pen. \n7.  A calculator with the memory erased and formulas cleared is allowed.\nYou may not bring any written notes or calculations into the exam session.\nSlide rules and logarithmic tables are acceptable\, as long as they’re free\nof notes and formulas. Cell phone must be silenced or turned off during\nthe exam session and the phones’ calculator function may not be used.\nIn addition\, iPhones\, iPads\, Androids\, smartphones\, Blackberry devices\nand all similar electronic devices with a calculator capability\, may NOT\nbe used. \n8.  Bring a check or cash to cover the exam session fee of $15.
URL:https://tcares.net/event/ham-radio-exam-session-sept-2018/
LOCATION:Tuolumne County Library\, 480 Greenley Rd\, Sonora\, 95370\, United States
ATTACH;FMTTYPE=image/jpeg:https://tcares.net/wp-content/uploads/2018/03/Become-an-Amateur-Radio-Operator-or-Ham-Operator-in-the-USA-Step-6-e1520735695275.jpg
END:VEVENT
BEGIN:VEVENT
DTSTART;TZID=America/Los_Angeles:20180915T013000
DTEND;TZID=America/Los_Angeles:20180915T040000
DTSTAMP:20260423T035527
CREATED:20180723T005557Z
LAST-MODIFIED:20180723T005947Z
UID:726-1536975000-1536984000@tcares.net
SUMMARY:TCARES Monthly Breakfast Meeting: SEP 15
DESCRIPTION:Join us Sept 15 at the Pine Tree restaurant.  The room opens at 8:30 AM for those who want to have breakfast\, coffee\, or just socialize.  The meeting starts promptly at 9:30 AM.
URL:https://tcares.net/event/tcares-monthly-breakfast-meeting/
LOCATION:PineTree\, 19601 Hess Ave\, Sonora\, CA\, 95370\, United States
END:VEVENT
BEGIN:VEVENT
DTSTART;TZID=America/Los_Angeles:20180825T020000
DTEND;TZID=America/Los_Angeles:20180825T090000
DTSTAMP:20260423T035527
CREATED:20180805T000826Z
LAST-MODIFIED:20180922T104405Z
UID:777-1535162400-1535187600@tcares.net
SUMMARY:TCARES: Incident Command System Training
DESCRIPTION:The Incident Command System is Useful in Both Emergency and Routine Incidents\nJoin Ham Operators in a day of basic / refresher training on the Incident Command System (ICS) on Saturday\, August 25\, 2018.  A working knowledge of ICS and how it might impact amateur radio operators will be the subject of an all-day workshop at the Tuolumne County Library.  This  workshop will be presented by Craig Konklin\, a retired Battalion Chief and Training Officer from CAL FIRE.  There is NO CHARGE for this workshop; however\, RSVP (to KJ6QVI@yahoo.com) / sign-up (during weekly TCARES Nets) will be appreciated\, to ensure that there is sufficient material for everyone. A certificate of completion for IS-100 is a prerequisite for completing the workshop. \n\n0900 – 1600\nSaturday\, August 25\, 2018\nTuolumne County LIbrary\n480 Greenley Rd.\, Sonora
URL:https://tcares.net/event/incident-command-system-training/
LOCATION:Tuolumne County Library\, 480 Greenley Rd\, Sonora\, 95370\, United States
CATEGORIES:Training
ATTACH;FMTTYPE=image/jpeg:https://tcares.net/wp-content/uploads/2018/08/ICS-Training.jpg
END:VEVENT
BEGIN:VEVENT
DTSTART;TZID=America/Los_Angeles:20180818T013000
DTEND;TZID=America/Los_Angeles:20180818T040000
DTSTAMP:20260423T035527
CREATED:20180712T001523Z
LAST-MODIFIED:20180712T012746Z
UID:665-1534555800-1534564800@tcares.net
SUMMARY:August TCARES Breakfast Meeting (new hours)
DESCRIPTION:Join us Aug 18 at the Pine Tree restaurant.  The room opens at 8:30 AM for those who want to have breakfast\, coffee\, or just socialize.  The meeting starts promptly at 9:30 AM.
URL:https://tcares.net/event/tcares-breakfast-meeting-august-2018/
LOCATION:PineTree\, 19601 Hess Ave\, Sonora\, CA\, 95370\, United States
ATTACH;FMTTYPE=image/jpeg:https://tcares.net/wp-content/uploads/2018/07/ham-club-meeting.jpg
END:VEVENT
BEGIN:VEVENT
DTSTART;TZID=America/Los_Angeles:20180721T013000
DTEND;TZID=America/Los_Angeles:20180721T040000
DTSTAMP:20260423T035527
CREATED:20180202T110448Z
LAST-MODIFIED:20180712T012707Z
UID:290-1532136600-1532145600@tcares.net
SUMMARY:July TCARES Breakfast Meeting (new hours)
DESCRIPTION:Join us July 21 at the Pine Tree restaurant.  The room opens at 8:30 AM for those who want to have breakfast\, coffee\, or just socialize.  The meeting starts promptly at 9:30 AM.
URL:https://tcares.net/event/tcares-breakfast-meeting-july/
LOCATION:PineTree\, 19601 Hess Ave\, Sonora\, CA\, 95370\, United States
ATTACH;FMTTYPE=image/jpeg:https://tcares.net/wp-content/uploads/2018/07/ham-club-meeting.jpg
END:VEVENT
BEGIN:VEVENT
DTSTART;VALUE=DATE:20180630
DTEND;VALUE=DATE:20180802
DTSTAMP:20260423T035527
CREATED:20180129T131714Z
LAST-MODIFIED:20180723T003754Z
UID:150-1530378000-1533142799@tcares.net
SUMMARY:TCARES Club Annual Membership Dues
DESCRIPTION:Membership renewals are due on July 1 of each year. \nFull membership is open to all licensed Amateur Radio Operators. \nAs a member of TCARES\, your dues help support a variety of club activities. Membership fees provide maintenance fees for the club repeaters. Funds are also used to support TCARES’ portable communications gear\, and pay for printing and mailing the club marketing materials. In addition\, your dues help TCARES provide emergency service training\, education and testing for license upgrading and community service. \nNOT A MEMBER?  JOIN NOW! http://tcares.net/join-tcares/. \n……… Membership Dues are due on July 1……… \n $30.00 per year per household.   (TCARES is a 501c 3 Charitable Corporation) \nMail to: \nTCARES \nPO BOX 3555\, \nSonora CA\, 95370
URL:https://tcares.net/event/annual-ham-club-membership-dues/
ATTACH;FMTTYPE=image/png:https://tcares.net/wp-content/uploads/2018/01/member-stamp1-e1522945967351.png
END:VEVENT
BEGIN:VEVENT
DTSTART;VALUE=DATE:20180622
DTEND;VALUE=DATE:20180625
DTSTAMP:20260423T035527
CREATED:20180129T131840Z
LAST-MODIFIED:20180428T212327Z
UID:152-1529686800-1529859599@tcares.net
SUMMARY:2018 Field Day @ Mi-Wuk Sugar Pine Fire Station
DESCRIPTION:TCARES will host field day at the MI-WUK SUGAR PINE FIRE STATION \nField Day is ham radio’s open house. Every June\, more than 40\,000 hams throughout North America set up temporary transmitting stations in public places to demonstrate ham radio’s science\, skill and service to our communities and our nation. It combines public service\, emergency preparedness\, community outreach\, and technical skills all in a single event. Field Day has been an annual event since 1933\, and remains the most popular event in ham radio. \n2018 FD Flier \n2018-Field-Day-Rules \n2016 fd log
URL:https://tcares.net/event/2018-field-day/
LOCATION:Mi-Wuk Sugar Pine Fire Station\, 24247 Highway 108\, Mi Wuk Village\, CA\, 95383\, United States
ATTACH;FMTTYPE=image/jpeg:https://tcares.net/wp-content/uploads/2018/01/2018-ARRL-Field-Day-Logo-DOWNLOAD.jpg
END:VEVENT
BEGIN:VEVENT
DTSTART;VALUE=DATE:20180615
DTEND;VALUE=DATE:20180618
DTSTAMP:20260423T035527
CREATED:20180613T065029Z
LAST-MODIFIED:20180613T110235Z
UID:464-1529082000-1529254799@tcares.net
SUMMARY:2018 Father's Day Fly-In
DESCRIPTION:TCARES Exhibit @ 2018 Father’s Day Fly-In\nTCARES has been approved for a free information and demo booth at the 2018 Father’s Day Fly-In for the purpose of educating the general public about the Amateur Radio arts. \nIn the booth space\, we will put up a canopy and tables\, set up some antennas and radios\, hand out flyers and brochures\, etc.   It is a very popular event with tons of families with kids there along with Boy Scouts and other organizations and vendors.  This is a great way to educate some youth about Ham Radio. \nInterested in staffing a 2 hour shift?\nSend us an email: info@tcares.net\nhttps://fathersdayflyin.org \n\nWe have new ARRL brochures to hand out.\n \n 
URL:https://tcares.net/event/fathers-day-fly-in/
ATTACH;FMTTYPE=image/jpeg:https://tcares.net/wp-content/uploads/2018/04/fathersdayfly-e1524185449879.jpeg
END:VEVENT
BEGIN:VEVENT
DTSTART;TZID=America/Los_Angeles:20180519T013000
DTEND;TZID=America/Los_Angeles:20180519T033000
DTSTAMP:20260423T035527
CREATED:20180202T110400Z
LAST-MODIFIED:20180202T110400Z
UID:288-1526693400-1526700600@tcares.net
SUMMARY:TCARES Breakfast Meeting
DESCRIPTION:Doors open at 8:30 and the club meeting starts @9:30.
URL:https://tcares.net/event/tcares-breakfast-meeting-2/
LOCATION:PineTree\, 19601 Hess Ave\, Sonora\, CA\, 95370\, United States
END:VEVENT
BEGIN:VEVENT
DTSTART;TZID=America/Los_Angeles:20180428T020000
DTEND;TZID=America/Los_Angeles:20180428T033000
DTSTAMP:20260423T035527
CREATED:20180202T093723Z
LAST-MODIFIED:20180226T112742Z
UID:273-1524880800-1524886200@tcares.net
SUMMARY:Ham Radio Exam Session April 2018
DESCRIPTION:Click here to learn how to study for your Exam. \nWhat to Bring to an Exam Session:\nMAP OF TEST LOCATION \n1.  A legal photo ID (driver’s license\, passport) \n2.  If no photo ID is available\, two forms of identification: \na. non-photo ID/driver’s license (some states still have them)\nb. birth certificate (must have the appropriate seal)\nc. social security card\nd. library card\ne. utility bill\, bank statement or other business correspondence that\nspecifically names the person; or a postmarked envelope addressed\nto the person at his or her current mailing address as it appears on\nthe Form 605. \n3.  Students/minors may bring any of the above items and/or a school ID\,\nminor’s work permit\, report card\, or a legal guardian may present a\nphoto ID. \n4.  Social Security Number (SSN) or your FCC issued Federal\nRegistration Number (FRN); VEC’s are required by the FCC to submit\neither your SSN or your FRN number with your license application\nform. If you prefer not to give your SSN at the exam session\, then\nyou may register your SSN with the FCC before exam day. Once you\nhave a FCC issued FRN\, you may no longer use your SSN on the\napplication. For instructions on how to register your SSN with the\nFCC and receive a FRN\, visit the FCC’s FAQ page and the\nFCC’s registration instructions page.  Please note that some\nexam teams will only accept a valid FRN on your application.\nCheck with your local exam team before exam day. \n5.  If applicable\, bring either a photocopy of your current Amateur Radio\nlicense or a reference copy printed out from the FCC website\, the\nlicense information printed from ARRL website or QRZ website\,\nor the original(s) and photocopy(s) of any Certificates of Successful\nCompletion of Examination (CSCE) you may hold from previous\nexam sessions. If your license has already been issued by FCC\,\nthe CSCE showing license credit is not needed. The photocopy(s)\nwill not be returned.\n           Instructions on how to obtain an official FCC license copy are on\nour Obtain License Copy  web page.  \n6.  Two number two pencils with erasers and a pen. \n7.  A calculator with the memory erased and formulas cleared is allowed.\nYou may not bring any written notes or calculations into the exam session.\nSlide rules and logarithmic tables are acceptable\, as long as they’re free\nof notes and formulas. Cell phone must be silenced or turned off during\nthe exam session and the phones’ calculator function may not be used.\nIn addition\, iPhones\, iPads\, Androids\, smartphones\, Blackberry devices\nand all similar electronic devices with a calculator capability\, may NOT\nbe used. \n8.  Bring a check or cash to cover the exam session fee of $15.
URL:https://tcares.net/event/ham-radio-exam-session-april-2018/
LOCATION:Tuolumne County Library\, 480 Greenley Rd\, Sonora\, 95370\, United States
ATTACH;FMTTYPE=image/jpeg:https://tcares.net/wp-content/uploads/2018/02/hamradiotest-e1520734547742.jpg
END:VEVENT
BEGIN:VEVENT
DTSTART;TZID=America/Los_Angeles:20180421T000000
DTEND;TZID=America/Los_Angeles:20180421T030000
DTSTAMP:20260423T035527
CREATED:20180202T110128Z
LAST-MODIFIED:20180405T234105Z
UID:284-1524268800-1524279600@tcares.net
SUMMARY:Public Service: 2018 Old Mill Run\, Columbia CA
DESCRIPTION:Old Mill Run\, Saturday April 21\, Meet at fire house/Gazebo Main St Columbia State Park 7AM \nTCARES is providing radio communication for this fundraiser event. \nAll levels of hams are welcome.  Guests can be paired with hams. \nQuestions on the run?  contact Grayson\, KE6KYI \nEVENT PAGE ON FACEBOOK
URL:https://tcares.net/event/public-service-old-mill-run/
LOCATION:Columbia State Park Gazebo\, 38.035564\, -120.400870
END:VEVENT
BEGIN:VEVENT
DTSTART;TZID=America/Los_Angeles:20180324T000000
DTEND;TZID=America/Los_Angeles:20180324T030000
DTSTAMP:20260423T035527
CREATED:20180202T104547Z
LAST-MODIFIED:20180322T062009Z
UID:281-1521849600-1521860400@tcares.net
SUMMARY:Public Service: Jamestown Run
DESCRIPTION:TCARES members: Meet at Jamestown CHP 7 AM \nTCARES is providing radio communication for this fundraiser event. \nAll levels of hams are welcome.  Guests can be paired with hams. \nQuestions on the runs?  contact Grayson\, KE6KYI \nThis is an annual community event\, coordinated by Jamestown School\, Parents\, Teachers.  This run is a fundraiser for Jamestown Science Camp and Band Program. \nKids Dash starts @ 8:00am at Jamestown School \nRegistration starts @ 7:00am in the Jamestown School Library. \n  \n**This event is Rain or Shine
URL:https://tcares.net/event/public-service-jamestown-run/
LOCATION:Jamestown CHP\, 18437 5th Ave\, Jamestown\, CA\, 95327\, United States
END:VEVENT
BEGIN:VEVENT
DTSTART;TZID=America/Los_Angeles:20180317T013000
DTEND;TZID=America/Los_Angeles:20180317T033000
DTSTAMP:20260423T035527
CREATED:20180202T110304Z
LAST-MODIFIED:20180202T110304Z
UID:286-1521250200-1521257400@tcares.net
SUMMARY:TCARES Breakfast Meeting
DESCRIPTION:Doors open at 8:30 and the club meeting starts @9:30.
URL:https://tcares.net/event/tcares-breakfast-meeting/
LOCATION:PineTree\, 19601 Hess Ave\, Sonora\, CA\, 95370\, United States
END:VEVENT
BEGIN:VEVENT
DTSTART;TZID=America/Los_Angeles:20180307T020000
DTEND;TZID=America/Los_Angeles:20180307T021500
DTSTAMP:20260423T035527
CREATED:20180307T021940Z
LAST-MODIFIED:20180307T022456Z
UID:369-1520388000-1520388900@tcares.net
SUMMARY:Listen to the ISS Space Station
DESCRIPTION:The ISS International Space Station will fly right over the motherlode tomorrow\, and we can listen! \nat 10 AM Listen: Downlink 145.800\, some handhelds can pick it up.   Maybe 5 minutes of silence before you hear anything.  Will only hear the space station. \nParkside Middle School\, San Bruno\, CA\, direct via K6PVJ \nTHIS IS NEAR SFO AIRPORT \nThe ISS callsign is presently scheduled to be NA1SS \nThe scheduled astronaut is Scott Tingle KG5NZA \nContact is a go for: Wed 2018-03-07 18:05:06 UTC 36 deg \nhttps://www.issfanclub.com/node/44640.  \n****************************************************************************** \nARISS is always glad to receive listener reports for the above contacts.  ARISS thanks everyone in advance for their assistance.  Feel free to send your reports to aj9n@amsat.org or aj9n@aol.com. \n \nThe event is scheduled to begin at approximately 18:05 UTC.\nThe contact will be direct between NA1SS and K6PVJ \nK6PVJ is:\nSAN BRUNO AMATEUR RADIO VOLUNTEERS\n2136 Shelter Creek Lane\nSan Bruno\, CA \nThe contact should be audible over the state of California and adjacent areas.\nInterested parties are invited to listen in on the 145.800 MHz .\nThe contact is expected to be conducted in English. \n73 de IW2BSF – Rudy \nINFO:\nParkside Middle School has a diverse student population of almost 900 students\, grades 6 through 8 with more than 20 languages spoken\, including Spanish\, Japanese\, Chinese\, Indian and Pacific Islanders. Ours is an economically disadvantaged district in an otherwise affluent area. 4 out of Every 10 Students Receive Free or Reduced Lunch. Our science and math teachers and students are very excited about hosting an ARISS contact. \nOne special characteristic of our school district is a STEM magnet program in one of our grade schools. The students from that school help carry a great enthusiasm for STEM and the maker movement into the middle school and share it with the student population at large. Our science curricula include atmosphere\, include layers\, and weather\, biology including the effects of gravity versus micro-gravity\, climate\, coding and robotics in an after school program\, history with how the constellations and planets got their names\, geography including land forms and tectonics\, soil and erosion\, making model lunar rovers\, exploring re-entry for orbital launch vehicles\, making and launching rockets\, and a number of activities around waves\, including sound and radio. \nWe have established contacts with the local print\, radio and televisions stations\, as well as a social media community of more than 1\,000 active participants. We’ll have a sequence of events\, with press releases and online reminders building up to the event. We will also engage our local cable channel and our very active Next-door communities. \nParticipants will ask as many of the following questions as time allows: \n1. How does being in space affect your body’s overall health?\n2. What is it like when you see spacecraft launch from earth and how does the\nspacecraft attach to the space station? Is it like a jet way for a plane?\n3. What does it feel like after you’ve been in space with no gravity and you\nare back on earth?\n4. Do you become light headed in space?\n5. Is it common to have to fix things on the space station\, either on the\ninside or the outside of the station.\n6. Do you have to wear special shoes inside the space station? What are they\nlike?\n7. When the falcon heavy launch carrying the Tesla that SpaceX launched into\nspace have you seen the Tesla yet?\n8. What is it like to live without gravity? What is the worst part? What is\nthe best part?\n9. Is space food good or bad? Is drinking water like blowing then eating\nbubbles?\n10. Do you get TV and internet in space?
URL:https://tcares.net/event/listen-space-station/
ATTACH;FMTTYPE=image/jpeg:https://tcares.net/wp-content/uploads/2018/03/iss.jpg
END:VEVENT
BEGIN:VEVENT
DTSTART;TZID=America/Los_Angeles:20180224T010000
DTEND;TZID=America/Los_Angeles:20180224T023000
DTSTAMP:20260423T035527
CREATED:20180129T124811Z
LAST-MODIFIED:20180202T093632Z
UID:134-1519434000-1519439400@tcares.net
SUMMARY:Ham Radio Exam Session
DESCRIPTION:Click here to learn how to study for your Exam. \nWhat to Bring to an Exam Session:\nMAP OF TEST LOCATION \n1.  A legal photo ID (driver’s license\, passport) \n2.  If no photo ID is available\, two forms of identification:\na. non-photo ID/driver’s license (some states still have them)\nb. birth certificate (must have the appropriate seal)\nc. social security card\nd. library card\ne. utility bill\, bank statement or other business correspondence that\nspecifically names the person; or a postmarked envelope addressed\nto the person at his or her current mailing address as it appears on\nthe Form 605. \n3.  Students/minors may bring any of the above items and/or a school ID\,\nminor’s work permit\, report card\, or a legal guardian may present a\nphoto ID. \n4.  Social Security Number (SSN) or your FCC issued Federal\nRegistration Number (FRN); VEC’s are required by the FCC to submit\neither your SSN or your FRN number with your license application\nform. If you prefer not to give your SSN at the exam session\, then\nyou may register your SSN with the FCC before exam day. Once you\nhave a FCC issued FRN\, you may no longer use your SSN on the\napplication. For instructions on how to register your SSN with the\nFCC and receive a FRN\, visit the FCC’s FAQ page and the\nFCC’s registration instructions page.  Please note that some\nexam teams will only accept a valid FRN on your application.\nCheck with your local exam team before exam day. \n5.  If applicable\, bring either a photocopy of your current Amateur Radio\nlicense or a reference copy printed out from the FCC website\, the\nlicense information printed from ARRL website or QRZ website\,\nor the original(s) and photocopy(s) of any Certificates of Successful\nCompletion of Examination (CSCE) you may hold from previous\nexam sessions. If your license has already been issued by FCC\,\nthe CSCE showing license credit is not needed. The photocopy(s)\nwill not be returned.\n           Instructions on how to obtain an official FCC license copy are on\nour Obtain License Copy  web page.  \n6.  Two number two pencils with erasers and a pen. \n7.  A calculator with the memory erased and formulas cleared is allowed.\nYou may not bring any written notes or calculations into the exam session.\nSlide rules and logarithmic tables are acceptable\, as long as they’re free\nof notes and formulas. Cell phone must be silenced or turned off during\nthe exam session and the phones’ calculator function may not be used.\nIn addition\, iPhones\, iPads\, Androids\, smartphones\, Blackberry devices\nand all similar electronic devices with a calculator capability\, may NOT\nbe used. \n8.  Bring a check or cash to cover the exam session fee of $15.
URL:https://tcares.net/event/ham-radio-exam-session/
LOCATION:Tuolumne County Library\, 480 Greenley Rd\, Sonora\, 95370\, United States
END:VEVENT
BEGIN:VEVENT
DTSTART;TZID=America/Los_Angeles:20180217T003000
DTEND;TZID=America/Los_Angeles:20180217T023000
DTSTAMP:20260423T035527
CREATED:20180129T132309Z
LAST-MODIFIED:20180129T132402Z
UID:154-1518827400-1518834600@tcares.net
SUMMARY:TCARES Breakfast Meeting
DESCRIPTION:Doors open at 8:30 and the club meeting starts @9:30.
URL:https://tcares.net/event/2018-feb-tcares-breakfast-meeting/
LOCATION:PineTree\, 19601 Hess Ave\, Sonora\, CA\, 95370\, United States
END:VEVENT
END:VCALENDAR