BEGIN:VCALENDAR
VERSION:2.0
PRODID:-//TCARES - ECPv6.15.20//NONSGML v1.0//EN
CALSCALE:GREGORIAN
METHOD:PUBLISH
X-ORIGINAL-URL:https://tcares.net
X-WR-CALDESC:Events for TCARES
REFRESH-INTERVAL;VALUE=DURATION:PT1H
X-Robots-Tag:noindex
X-PUBLISHED-TTL:PT1H
BEGIN:VTIMEZONE
TZID:America/Los_Angeles
BEGIN:DAYLIGHT
TZOFFSETFROM:-0800
TZOFFSETTO:-0700
TZNAME:PDT
DTSTART:20170312T100000
END:DAYLIGHT
BEGIN:STANDARD
TZOFFSETFROM:-0700
TZOFFSETTO:-0800
TZNAME:PST
DTSTART:20171105T090000
END:STANDARD
BEGIN:DAYLIGHT
TZOFFSETFROM:-0800
TZOFFSETTO:-0700
TZNAME:PDT
DTSTART:20180311T100000
END:DAYLIGHT
BEGIN:STANDARD
TZOFFSETFROM:-0700
TZOFFSETTO:-0800
TZNAME:PST
DTSTART:20181104T090000
END:STANDARD
BEGIN:DAYLIGHT
TZOFFSETFROM:-0800
TZOFFSETTO:-0700
TZNAME:PDT
DTSTART:20190310T100000
END:DAYLIGHT
BEGIN:STANDARD
TZOFFSETFROM:-0700
TZOFFSETTO:-0800
TZNAME:PST
DTSTART:20191103T090000
END:STANDARD
END:VTIMEZONE
BEGIN:VEVENT
DTSTART;VALUE=DATE:20180630
DTEND;VALUE=DATE:20180802
DTSTAMP:20260423T053219
CREATED:20180129T131714Z
LAST-MODIFIED:20180723T003754Z
UID:150-1530378000-1533142799@tcares.net
SUMMARY:TCARES Club Annual Membership Dues
DESCRIPTION:Membership renewals are due on July 1 of each year. \nFull membership is open to all licensed Amateur Radio Operators. \nAs a member of TCARES\, your dues help support a variety of club activities. Membership fees provide maintenance fees for the club repeaters. Funds are also used to support TCARES’ portable communications gear\, and pay for printing and mailing the club marketing materials. In addition\, your dues help TCARES provide emergency service training\, education and testing for license upgrading and community service. \nNOT A MEMBER?  JOIN NOW! http://tcares.net/join-tcares/. \n……… Membership Dues are due on July 1……… \n $30.00 per year per household.   (TCARES is a 501c 3 Charitable Corporation) \nMail to: \nTCARES \nPO BOX 3555\, \nSonora CA\, 95370
URL:https://tcares.net/event/annual-ham-club-membership-dues/
ATTACH;FMTTYPE=image/png:https://tcares.net/wp-content/uploads/2018/01/member-stamp1-e1522945967351.png
END:VEVENT
BEGIN:VEVENT
DTSTART;TZID=America/Los_Angeles:20180721T013000
DTEND;TZID=America/Los_Angeles:20180721T040000
DTSTAMP:20260423T053219
CREATED:20180202T110448Z
LAST-MODIFIED:20180712T012707Z
UID:290-1532136600-1532145600@tcares.net
SUMMARY:July TCARES Breakfast Meeting (new hours)
DESCRIPTION:Join us July 21 at the Pine Tree restaurant.  The room opens at 8:30 AM for those who want to have breakfast\, coffee\, or just socialize.  The meeting starts promptly at 9:30 AM.
URL:https://tcares.net/event/tcares-breakfast-meeting-july/
LOCATION:PineTree\, 19601 Hess Ave\, Sonora\, CA\, 95370\, United States
ATTACH;FMTTYPE=image/jpeg:https://tcares.net/wp-content/uploads/2018/07/ham-club-meeting.jpg
END:VEVENT
END:VCALENDAR